BEGIN:VCALENDAR
VERSION:2.0
PRODID:-//Irmo Fire District - ECPv6.15.15//NONSGML v1.0//EN
CALSCALE:GREGORIAN
METHOD:PUBLISH
X-ORIGINAL-URL:https://irmofire.org
X-WR-CALDESC:Events for Irmo Fire District
REFRESH-INTERVAL;VALUE=DURATION:PT1H
X-Robots-Tag:noindex
X-PUBLISHED-TTL:PT1H
BEGIN:VTIMEZONE
TZID:UTC
BEGIN:STANDARD
TZOFFSETFROM:+0000
TZOFFSETTO:+0000
TZNAME:UTC
DTSTART:20240101T000000
END:STANDARD
END:VTIMEZONE
BEGIN:VTIMEZONE
TZID:America/New_York
BEGIN:DAYLIGHT
TZOFFSETFROM:-0500
TZOFFSETTO:-0400
TZNAME:EDT
DTSTART:20240310T070000
END:DAYLIGHT
BEGIN:STANDARD
TZOFFSETFROM:-0400
TZOFFSETTO:-0500
TZNAME:EST
DTSTART:20241103T060000
END:STANDARD
BEGIN:DAYLIGHT
TZOFFSETFROM:-0500
TZOFFSETTO:-0400
TZNAME:EDT
DTSTART:20250309T070000
END:DAYLIGHT
BEGIN:STANDARD
TZOFFSETFROM:-0400
TZOFFSETTO:-0500
TZNAME:EST
DTSTART:20251102T060000
END:STANDARD
BEGIN:DAYLIGHT
TZOFFSETFROM:-0500
TZOFFSETTO:-0400
TZNAME:EDT
DTSTART:20260308T070000
END:DAYLIGHT
BEGIN:STANDARD
TZOFFSETFROM:-0400
TZOFFSETTO:-0500
TZNAME:EST
DTSTART:20261101T060000
END:STANDARD
END:VTIMEZONE
BEGIN:VEVENT
DTSTART;TZID=UTC:20250708T190000
DTEND;TZID=UTC:20250708T210000
DTSTAMP:20260208T032408
CREATED:20220414T232417Z
LAST-MODIFIED:20220414T232417Z
UID:1487-1752001200-1752008400@irmofire.org
SUMMARY:Board of Fire Control Meeting
DESCRIPTION:The Irmo Board of Fire Control meets on the second Tuesday of every month at 7:00pm. The Irmo Fire District’s Headquarters station is located 6017 St. Andrews Road. The meetings are always open to the public. \nClick Here to See Meeting Agenda
URL:https://irmofire.org/event/board-of-fire-control-meeting/2025-07-08/
LOCATION:IFD Headquarters\, 6017 St. Andrews Road\, Columbia\, SC\, 29212\, United States
CATEGORIES:Board of Fire Control Meeting
ATTACH;FMTTYPE=image/jpeg:https://irmofire.org/wp-content/uploads/2021/11/HQ-scaled.jpg
END:VEVENT
BEGIN:VEVENT
DTSTART;TZID=America/New_York:20250710T160000
DTEND;TZID=America/New_York:20250710T210000
DTSTAMP:20260208T032408
CREATED:20250630T203623Z
LAST-MODIFIED:20250630T203809Z
UID:3615-1752163200-1752181200@irmofire.org
SUMMARY:Groucho's Gives Back
DESCRIPTION:Mark your calendars\, Irmo! Groucho’s Deli is turning up the heat on Thursday\, July 10th from 4-9pm with a Groucho’s Gives Back Night to support our hometown heroes at Irmo Fire. Swing by the Irmo location for your favorite sandwiches\, and 10% of all Groucho’s orders (no third-party apps) will go directly to the Irmo Fire Foundation. It’s an easy\, and delicious\, way to give back to those who serve with courage\, integrity\, and heart. Let’s pack the deli for a good cause!
URL:https://irmofire.org/event/grouchos-gives-back/
LOCATION:Groucho’s Deli\, 700 Columbiana Drive\, Suite B\, Irmo\, South Carolina\, 29063\, United States
ATTACH;FMTTYPE=image/png:https://irmofire.org/wp-content/uploads/2025/06/Grouchos-Corrected.png
END:VEVENT
BEGIN:VEVENT
DTSTART;TZID=UTC:20250812T190000
DTEND;TZID=UTC:20250812T210000
DTSTAMP:20260208T032408
CREATED:20220414T232417Z
LAST-MODIFIED:20220414T232417Z
UID:1496-1755025200-1755032400@irmofire.org
SUMMARY:Board of Fire Control Meeting
DESCRIPTION:The Irmo Board of Fire Control meets on the second Tuesday of every month at 7:00pm. The Irmo Fire District’s Headquarters station is located 6017 St. Andrews Road. The meetings are always open to the public. \nClick Here to See Meeting Agenda
URL:https://irmofire.org/event/board-of-fire-control-meeting/2025-08-12/
LOCATION:IFD Headquarters\, 6017 St. Andrews Road\, Columbia\, SC\, 29212\, United States
CATEGORIES:Board of Fire Control Meeting
ATTACH;FMTTYPE=image/jpeg:https://irmofire.org/wp-content/uploads/2021/11/HQ-scaled.jpg
END:VEVENT
BEGIN:VEVENT
DTSTART;TZID=UTC:20250909T190000
DTEND;TZID=UTC:20250909T210000
DTSTAMP:20260208T032408
CREATED:20220414T232417Z
LAST-MODIFIED:20220414T232417Z
UID:1505-1757444400-1757451600@irmofire.org
SUMMARY:Board of Fire Control Meeting
DESCRIPTION:The Irmo Board of Fire Control meets on the second Tuesday of every month at 7:00pm. The Irmo Fire District’s Headquarters station is located 6017 St. Andrews Road. The meetings are always open to the public. \nClick Here to See Meeting Agenda
URL:https://irmofire.org/event/board-of-fire-control-meeting/2025-09-09/
LOCATION:IFD Headquarters\, 6017 St. Andrews Road\, Columbia\, SC\, 29212\, United States
CATEGORIES:Board of Fire Control Meeting
ATTACH;FMTTYPE=image/jpeg:https://irmofire.org/wp-content/uploads/2021/11/HQ-scaled.jpg
END:VEVENT
BEGIN:VEVENT
DTSTART;TZID=America/New_York:20250912T180000
DTEND;TZID=America/New_York:20250912T180000
DTSTAMP:20260208T032408
CREATED:20250403T161224Z
LAST-MODIFIED:20250403T161224Z
UID:3397-1757700000-1757700000@irmofire.org
SUMMARY:Tunnel to Towers Columbia\, SC 5K
DESCRIPTION:Join Team Muller Time to honor and remember Irmo Fire District Firefighter James “J” Michael Muller. \nTragically\, J lost his life in the line of duty on May 26\, 2023 due to a structural collapse during fire suppression efforts. He had been a member of the Irmo Fire District for 7 years and had a profound impact on the District. His enthusiasm was infectious\, not just for the job\, but for everything. He influenced attitudes\, behaviors\, and performance by setting a great example of how to be a human being. He was positive\, funny\, and outstanding at everything he did. He was a selfless servant\, always looking out for the other people in his life\, and he always went the extra mile to serve the citizens of Irmo. J was legendary. We will honor him in everything we do. He will never be forgotten.
URL:https://irmofire.org/event/tunnel-to-towers-columbia-sc-5k/
LOCATION:Columbia Metropolitan Convention Center\, 1101 Lincoln Street\, Columbia\, SC\, 29201\, United States
ATTACH;FMTTYPE=image/jpeg:https://irmofire.org/wp-content/uploads/2025/04/T2T25.jpg
END:VEVENT
BEGIN:VEVENT
DTSTART;TZID=UTC:20251014T190000
DTEND;TZID=UTC:20251014T210000
DTSTAMP:20260208T032408
CREATED:20220414T232417Z
LAST-MODIFIED:20220414T232417Z
UID:1508-1760468400-1760475600@irmofire.org
SUMMARY:Board of Fire Control Meeting
DESCRIPTION:The Irmo Board of Fire Control meets on the second Tuesday of every month at 7:00pm. The Irmo Fire District’s Headquarters station is located 6017 St. Andrews Road. The meetings are always open to the public. \nClick Here to See Meeting Agenda
URL:https://irmofire.org/event/board-of-fire-control-meeting/2025-10-14/
LOCATION:IFD Headquarters\, 6017 St. Andrews Road\, Columbia\, SC\, 29212\, United States
CATEGORIES:Board of Fire Control Meeting
ATTACH;FMTTYPE=image/jpeg:https://irmofire.org/wp-content/uploads/2021/11/HQ-scaled.jpg
END:VEVENT
BEGIN:VEVENT
DTSTART;TZID=UTC:20251111T190000
DTEND;TZID=UTC:20251111T210000
DTSTAMP:20260208T032408
CREATED:20220414T232417Z
LAST-MODIFIED:20220414T232417Z
UID:1514-1762887600-1762894800@irmofire.org
SUMMARY:Board of Fire Control Meeting
DESCRIPTION:The Irmo Board of Fire Control meets on the second Tuesday of every month at 7:00pm. The Irmo Fire District’s Headquarters station is located 6017 St. Andrews Road. The meetings are always open to the public. \nClick Here to See Meeting Agenda
URL:https://irmofire.org/event/board-of-fire-control-meeting/2025-11-11/
LOCATION:IFD Headquarters\, 6017 St. Andrews Road\, Columbia\, SC\, 29212\, United States
CATEGORIES:Board of Fire Control Meeting
ATTACH;FMTTYPE=image/jpeg:https://irmofire.org/wp-content/uploads/2021/11/HQ-scaled.jpg
END:VEVENT
BEGIN:VEVENT
DTSTART;TZID=UTC:20251209T190000
DTEND;TZID=UTC:20251209T210000
DTSTAMP:20260208T032408
CREATED:20220414T232417Z
LAST-MODIFIED:20220414T232417Z
UID:1533-1765306800-1765314000@irmofire.org
SUMMARY:Board of Fire Control Meeting
DESCRIPTION:The Irmo Board of Fire Control meets on the second Tuesday of every month at 7:00pm. The Irmo Fire District’s Headquarters station is located 6017 St. Andrews Road. The meetings are always open to the public. \nClick Here to See Meeting Agenda
URL:https://irmofire.org/event/board-of-fire-control-meeting/2025-12-09/
LOCATION:IFD Headquarters\, 6017 St. Andrews Road\, Columbia\, SC\, 29212\, United States
CATEGORIES:Board of Fire Control Meeting
ATTACH;FMTTYPE=image/jpeg:https://irmofire.org/wp-content/uploads/2021/11/HQ-scaled.jpg
END:VEVENT
BEGIN:VEVENT
DTSTART;TZID=UTC:20260113T190000
DTEND;TZID=UTC:20260113T210000
DTSTAMP:20260208T032408
CREATED:20220414T232417Z
LAST-MODIFIED:20220414T232417Z
UID:1590-1768330800-1768338000@irmofire.org
SUMMARY:Board of Fire Control Meeting
DESCRIPTION:The Irmo Board of Fire Control meets on the second Tuesday of every month at 7:00pm. The Irmo Fire District’s Headquarters station is located 6017 St. Andrews Road. The meetings are always open to the public. \nClick Here to See Meeting Agenda
URL:https://irmofire.org/event/board-of-fire-control-meeting/2026-01-13/
LOCATION:IFD Headquarters\, 6017 St. Andrews Road\, Columbia\, SC\, 29212\, United States
CATEGORIES:Board of Fire Control Meeting
ATTACH;FMTTYPE=image/jpeg:https://irmofire.org/wp-content/uploads/2021/11/HQ-scaled.jpg
END:VEVENT
BEGIN:VEVENT
DTSTART;TZID=UTC:20260210T190000
DTEND;TZID=UTC:20260210T210000
DTSTAMP:20260208T032408
CREATED:20220414T232417Z
LAST-MODIFIED:20220414T232417Z
UID:1753-1770750000-1770757200@irmofire.org
SUMMARY:Board of Fire Control Meeting
DESCRIPTION:The Irmo Board of Fire Control meets on the second Tuesday of every month at 7:00pm. The Irmo Fire District’s Headquarters station is located 6017 St. Andrews Road. The meetings are always open to the public. \nClick Here to See Meeting Agenda
URL:https://irmofire.org/event/board-of-fire-control-meeting/2026-02-10/
LOCATION:IFD Headquarters\, 6017 St. Andrews Road\, Columbia\, SC\, 29212\, United States
CATEGORIES:Board of Fire Control Meeting
ATTACH;FMTTYPE=image/jpeg:https://irmofire.org/wp-content/uploads/2021/11/HQ-scaled.jpg
END:VEVENT
BEGIN:VEVENT
DTSTART;TZID=UTC:20260310T190000
DTEND;TZID=UTC:20260310T210000
DTSTAMP:20260208T032408
CREATED:20220414T232417Z
LAST-MODIFIED:20220414T232417Z
UID:1791-1773169200-1773176400@irmofire.org
SUMMARY:Board of Fire Control Meeting
DESCRIPTION:The Irmo Board of Fire Control meets on the second Tuesday of every month at 7:00pm. The Irmo Fire District’s Headquarters station is located 6017 St. Andrews Road. The meetings are always open to the public. \nClick Here to See Meeting Agenda
URL:https://irmofire.org/event/board-of-fire-control-meeting/2026-03-10/
LOCATION:IFD Headquarters\, 6017 St. Andrews Road\, Columbia\, SC\, 29212\, United States
CATEGORIES:Board of Fire Control Meeting
ATTACH;FMTTYPE=image/jpeg:https://irmofire.org/wp-content/uploads/2021/11/HQ-scaled.jpg
END:VEVENT
BEGIN:VEVENT
DTSTART;TZID=UTC:20260414T190000
DTEND;TZID=UTC:20260414T210000
DTSTAMP:20260208T032408
CREATED:20220414T232417Z
LAST-MODIFIED:20220414T232417Z
UID:2243-1776193200-1776200400@irmofire.org
SUMMARY:Board of Fire Control Meeting
DESCRIPTION:The Irmo Board of Fire Control meets on the second Tuesday of every month at 7:00pm. The Irmo Fire District’s Headquarters station is located 6017 St. Andrews Road. The meetings are always open to the public. \nClick Here to See Meeting Agenda
URL:https://irmofire.org/event/board-of-fire-control-meeting/2026-04-14/
LOCATION:IFD Headquarters\, 6017 St. Andrews Road\, Columbia\, SC\, 29212\, United States
CATEGORIES:Board of Fire Control Meeting
ATTACH;FMTTYPE=image/jpeg:https://irmofire.org/wp-content/uploads/2021/11/HQ-scaled.jpg
END:VEVENT
BEGIN:VEVENT
DTSTART;TZID=UTC:20260512T190000
DTEND;TZID=UTC:20260512T210000
DTSTAMP:20260208T032408
CREATED:20220414T232417Z
LAST-MODIFIED:20220414T232417Z
UID:2411-1778612400-1778619600@irmofire.org
SUMMARY:Board of Fire Control Meeting
DESCRIPTION:The Irmo Board of Fire Control meets on the second Tuesday of every month at 7:00pm. The Irmo Fire District’s Headquarters station is located 6017 St. Andrews Road. The meetings are always open to the public. \nClick Here to See Meeting Agenda
URL:https://irmofire.org/event/board-of-fire-control-meeting/2026-05-12/
LOCATION:IFD Headquarters\, 6017 St. Andrews Road\, Columbia\, SC\, 29212\, United States
CATEGORIES:Board of Fire Control Meeting
ATTACH;FMTTYPE=image/jpeg:https://irmofire.org/wp-content/uploads/2021/11/HQ-scaled.jpg
END:VEVENT
BEGIN:VEVENT
DTSTART;TZID=UTC:20260609T190000
DTEND;TZID=UTC:20260609T210000
DTSTAMP:20260208T032408
CREATED:20220414T232417Z
LAST-MODIFIED:20220414T232417Z
UID:2784-1781031600-1781038800@irmofire.org
SUMMARY:Board of Fire Control Meeting
DESCRIPTION:The Irmo Board of Fire Control meets on the second Tuesday of every month at 7:00pm. The Irmo Fire District’s Headquarters station is located 6017 St. Andrews Road. The meetings are always open to the public. \nClick Here to See Meeting Agenda
URL:https://irmofire.org/event/board-of-fire-control-meeting/2026-06-09/
LOCATION:IFD Headquarters\, 6017 St. Andrews Road\, Columbia\, SC\, 29212\, United States
CATEGORIES:Board of Fire Control Meeting
ATTACH;FMTTYPE=image/jpeg:https://irmofire.org/wp-content/uploads/2021/11/HQ-scaled.jpg
END:VEVENT
BEGIN:VEVENT
DTSTART;TZID=UTC:20260714T190000
DTEND;TZID=UTC:20260714T210000
DTSTAMP:20260208T032408
CREATED:20220414T232417Z
LAST-MODIFIED:20220414T232417Z
UID:2797-1784055600-1784062800@irmofire.org
SUMMARY:Board of Fire Control Meeting
DESCRIPTION:The Irmo Board of Fire Control meets on the second Tuesday of every month at 7:00pm. The Irmo Fire District’s Headquarters station is located 6017 St. Andrews Road. The meetings are always open to the public. \nClick Here to See Meeting Agenda
URL:https://irmofire.org/event/board-of-fire-control-meeting/2026-07-14/
LOCATION:IFD Headquarters\, 6017 St. Andrews Road\, Columbia\, SC\, 29212\, United States
CATEGORIES:Board of Fire Control Meeting
ATTACH;FMTTYPE=image/jpeg:https://irmofire.org/wp-content/uploads/2021/11/HQ-scaled.jpg
END:VEVENT
BEGIN:VEVENT
DTSTART;TZID=UTC:20260811T190000
DTEND;TZID=UTC:20260811T210000
DTSTAMP:20260208T032408
CREATED:20220414T232417Z
LAST-MODIFIED:20220414T232417Z
UID:2847-1786474800-1786482000@irmofire.org
SUMMARY:Board of Fire Control Meeting
DESCRIPTION:The Irmo Board of Fire Control meets on the second Tuesday of every month at 7:00pm. The Irmo Fire District’s Headquarters station is located 6017 St. Andrews Road. The meetings are always open to the public. \nClick Here to See Meeting Agenda
URL:https://irmofire.org/event/board-of-fire-control-meeting/2026-08-11/
LOCATION:IFD Headquarters\, 6017 St. Andrews Road\, Columbia\, SC\, 29212\, United States
CATEGORIES:Board of Fire Control Meeting
ATTACH;FMTTYPE=image/jpeg:https://irmofire.org/wp-content/uploads/2021/11/HQ-scaled.jpg
END:VEVENT
BEGIN:VEVENT
DTSTART;TZID=UTC:20260908T190000
DTEND;TZID=UTC:20260908T210000
DTSTAMP:20260208T032408
CREATED:20220414T232417Z
LAST-MODIFIED:20220414T232417Z
UID:2909-1788894000-1788901200@irmofire.org
SUMMARY:Board of Fire Control Meeting
DESCRIPTION:The Irmo Board of Fire Control meets on the second Tuesday of every month at 7:00pm. The Irmo Fire District’s Headquarters station is located 6017 St. Andrews Road. The meetings are always open to the public. \nClick Here to See Meeting Agenda
URL:https://irmofire.org/event/board-of-fire-control-meeting/2026-09-08/
LOCATION:IFD Headquarters\, 6017 St. Andrews Road\, Columbia\, SC\, 29212\, United States
CATEGORIES:Board of Fire Control Meeting
ATTACH;FMTTYPE=image/jpeg:https://irmofire.org/wp-content/uploads/2021/11/HQ-scaled.jpg
END:VEVENT
BEGIN:VEVENT
DTSTART;TZID=UTC:20261013T190000
DTEND;TZID=UTC:20261013T210000
DTSTAMP:20260208T032408
CREATED:20220414T232417Z
LAST-MODIFIED:20220414T232417Z
UID:3045-1791918000-1791925200@irmofire.org
SUMMARY:Board of Fire Control Meeting
DESCRIPTION:The Irmo Board of Fire Control meets on the second Tuesday of every month at 7:00pm. The Irmo Fire District’s Headquarters station is located 6017 St. Andrews Road. The meetings are always open to the public. \nClick Here to See Meeting Agenda
URL:https://irmofire.org/event/board-of-fire-control-meeting/2026-10-13/
LOCATION:IFD Headquarters\, 6017 St. Andrews Road\, Columbia\, SC\, 29212\, United States
CATEGORIES:Board of Fire Control Meeting
ATTACH;FMTTYPE=image/jpeg:https://irmofire.org/wp-content/uploads/2021/11/HQ-scaled.jpg
END:VEVENT
BEGIN:VEVENT
DTSTART;TZID=UTC:20261110T190000
DTEND;TZID=UTC:20261110T210000
DTSTAMP:20260208T032408
CREATED:20220414T232417Z
LAST-MODIFIED:20220414T232417Z
UID:3047-1794337200-1794344400@irmofire.org
SUMMARY:Board of Fire Control Meeting
DESCRIPTION:The Irmo Board of Fire Control meets on the second Tuesday of every month at 7:00pm. The Irmo Fire District’s Headquarters station is located 6017 St. Andrews Road. The meetings are always open to the public. \nClick Here to See Meeting Agenda
URL:https://irmofire.org/event/board-of-fire-control-meeting/2026-11-10/
LOCATION:IFD Headquarters\, 6017 St. Andrews Road\, Columbia\, SC\, 29212\, United States
CATEGORIES:Board of Fire Control Meeting
ATTACH;FMTTYPE=image/jpeg:https://irmofire.org/wp-content/uploads/2021/11/HQ-scaled.jpg
END:VEVENT
BEGIN:VEVENT
DTSTART;TZID=UTC:20261208T190000
DTEND;TZID=UTC:20261208T210000
DTSTAMP:20260208T032408
CREATED:20220414T232417Z
LAST-MODIFIED:20220414T232417Z
UID:3130-1796756400-1796763600@irmofire.org
SUMMARY:Board of Fire Control Meeting
DESCRIPTION:The Irmo Board of Fire Control meets on the second Tuesday of every month at 7:00pm. The Irmo Fire District’s Headquarters station is located 6017 St. Andrews Road. The meetings are always open to the public. \nClick Here to See Meeting Agenda
URL:https://irmofire.org/event/board-of-fire-control-meeting/2026-12-08/
LOCATION:IFD Headquarters\, 6017 St. Andrews Road\, Columbia\, SC\, 29212\, United States
CATEGORIES:Board of Fire Control Meeting
ATTACH;FMTTYPE=image/jpeg:https://irmofire.org/wp-content/uploads/2021/11/HQ-scaled.jpg
END:VEVENT
BEGIN:VEVENT
DTSTART;TZID=UTC:20270112T190000
DTEND;TZID=UTC:20270112T210000
DTSTAMP:20260208T032408
CREATED:20220414T232417Z
LAST-MODIFIED:20220414T232417Z
UID:3192-1799780400-1799787600@irmofire.org
SUMMARY:Board of Fire Control Meeting
DESCRIPTION:The Irmo Board of Fire Control meets on the second Tuesday of every month at 7:00pm. The Irmo Fire District’s Headquarters station is located 6017 St. Andrews Road. The meetings are always open to the public. \nClick Here to See Meeting Agenda
URL:https://irmofire.org/event/board-of-fire-control-meeting/2027-01-12/
LOCATION:IFD Headquarters\, 6017 St. Andrews Road\, Columbia\, SC\, 29212\, United States
CATEGORIES:Board of Fire Control Meeting
ATTACH;FMTTYPE=image/jpeg:https://irmofire.org/wp-content/uploads/2021/11/HQ-scaled.jpg
END:VEVENT
BEGIN:VEVENT
DTSTART;TZID=UTC:20270209T190000
DTEND;TZID=UTC:20270209T210000
DTSTAMP:20260208T032408
CREATED:20220414T232417Z
LAST-MODIFIED:20220414T232417Z
UID:3258-1802199600-1802206800@irmofire.org
SUMMARY:Board of Fire Control Meeting
DESCRIPTION:The Irmo Board of Fire Control meets on the second Tuesday of every month at 7:00pm. The Irmo Fire District’s Headquarters station is located 6017 St. Andrews Road. The meetings are always open to the public. \nClick Here to See Meeting Agenda
URL:https://irmofire.org/event/board-of-fire-control-meeting/2027-02-09/
LOCATION:IFD Headquarters\, 6017 St. Andrews Road\, Columbia\, SC\, 29212\, United States
CATEGORIES:Board of Fire Control Meeting
ATTACH;FMTTYPE=image/jpeg:https://irmofire.org/wp-content/uploads/2021/11/HQ-scaled.jpg
END:VEVENT
BEGIN:VEVENT
DTSTART;TZID=UTC:20270309T190000
DTEND;TZID=UTC:20270309T210000
DTSTAMP:20260208T032408
CREATED:20220414T232417Z
LAST-MODIFIED:20220414T232417Z
UID:3335-1804618800-1804626000@irmofire.org
SUMMARY:Board of Fire Control Meeting
DESCRIPTION:The Irmo Board of Fire Control meets on the second Tuesday of every month at 7:00pm. The Irmo Fire District’s Headquarters station is located 6017 St. Andrews Road. The meetings are always open to the public. \nClick Here to See Meeting Agenda
URL:https://irmofire.org/event/board-of-fire-control-meeting/2027-03-09/
LOCATION:IFD Headquarters\, 6017 St. Andrews Road\, Columbia\, SC\, 29212\, United States
CATEGORIES:Board of Fire Control Meeting
ATTACH;FMTTYPE=image/jpeg:https://irmofire.org/wp-content/uploads/2021/11/HQ-scaled.jpg
END:VEVENT
BEGIN:VEVENT
DTSTART;TZID=UTC:20270413T190000
DTEND;TZID=UTC:20270413T210000
DTSTAMP:20260208T032408
CREATED:20220414T232417Z
LAST-MODIFIED:20220414T232417Z
UID:3406-1807642800-1807650000@irmofire.org
SUMMARY:Board of Fire Control Meeting
DESCRIPTION:The Irmo Board of Fire Control meets on the second Tuesday of every month at 7:00pm. The Irmo Fire District’s Headquarters station is located 6017 St. Andrews Road. The meetings are always open to the public. \nClick Here to See Meeting Agenda
URL:https://irmofire.org/event/board-of-fire-control-meeting/2027-04-13/
LOCATION:IFD Headquarters\, 6017 St. Andrews Road\, Columbia\, SC\, 29212\, United States
CATEGORIES:Board of Fire Control Meeting
ATTACH;FMTTYPE=image/jpeg:https://irmofire.org/wp-content/uploads/2021/11/HQ-scaled.jpg
END:VEVENT
BEGIN:VEVENT
DTSTART;TZID=UTC:20270511T190000
DTEND;TZID=UTC:20270511T210000
DTSTAMP:20260208T032408
CREATED:20220414T232417Z
LAST-MODIFIED:20220414T232417Z
UID:3510-1810062000-1810069200@irmofire.org
SUMMARY:Board of Fire Control Meeting
DESCRIPTION:The Irmo Board of Fire Control meets on the second Tuesday of every month at 7:00pm. The Irmo Fire District’s Headquarters station is located 6017 St. Andrews Road. The meetings are always open to the public. \nClick Here to See Meeting Agenda
URL:https://irmofire.org/event/board-of-fire-control-meeting/2027-05-11/
LOCATION:IFD Headquarters\, 6017 St. Andrews Road\, Columbia\, SC\, 29212\, United States
CATEGORIES:Board of Fire Control Meeting
ATTACH;FMTTYPE=image/jpeg:https://irmofire.org/wp-content/uploads/2021/11/HQ-scaled.jpg
END:VEVENT
BEGIN:VEVENT
DTSTART;TZID=UTC:20270608T190000
DTEND;TZID=UTC:20270608T210000
DTSTAMP:20260208T032408
CREATED:20220414T232417Z
LAST-MODIFIED:20220414T232417Z
UID:3577-1812481200-1812488400@irmofire.org
SUMMARY:Board of Fire Control Meeting
DESCRIPTION:The Irmo Board of Fire Control meets on the second Tuesday of every month at 7:00pm. The Irmo Fire District’s Headquarters station is located 6017 St. Andrews Road. The meetings are always open to the public. \nClick Here to See Meeting Agenda
URL:https://irmofire.org/event/board-of-fire-control-meeting/2027-06-08/
LOCATION:IFD Headquarters\, 6017 St. Andrews Road\, Columbia\, SC\, 29212\, United States
CATEGORIES:Board of Fire Control Meeting
ATTACH;FMTTYPE=image/jpeg:https://irmofire.org/wp-content/uploads/2021/11/HQ-scaled.jpg
END:VEVENT
BEGIN:VEVENT
DTSTART;TZID=UTC:20270713T190000
DTEND;TZID=UTC:20270713T210000
DTSTAMP:20260208T032408
CREATED:20220414T232417Z
LAST-MODIFIED:20220414T232417Z
UID:3634-1815505200-1815512400@irmofire.org
SUMMARY:Board of Fire Control Meeting
DESCRIPTION:The Irmo Board of Fire Control meets on the second Tuesday of every month at 7:00pm. The Irmo Fire District’s Headquarters station is located 6017 St. Andrews Road. The meetings are always open to the public. \nClick Here to See Meeting Agenda
URL:https://irmofire.org/event/board-of-fire-control-meeting/2027-07-13/
LOCATION:IFD Headquarters\, 6017 St. Andrews Road\, Columbia\, SC\, 29212\, United States
CATEGORIES:Board of Fire Control Meeting
ATTACH;FMTTYPE=image/jpeg:https://irmofire.org/wp-content/uploads/2021/11/HQ-scaled.jpg
END:VEVENT
BEGIN:VEVENT
DTSTART;TZID=UTC:20270810T190000
DTEND;TZID=UTC:20270810T210000
DTSTAMP:20260208T032408
CREATED:20220414T232417Z
LAST-MODIFIED:20220414T232417Z
UID:3661-1817924400-1817931600@irmofire.org
SUMMARY:Board of Fire Control Meeting
DESCRIPTION:The Irmo Board of Fire Control meets on the second Tuesday of every month at 7:00pm. The Irmo Fire District’s Headquarters station is located 6017 St. Andrews Road. The meetings are always open to the public. \nClick Here to See Meeting Agenda
URL:https://irmofire.org/event/board-of-fire-control-meeting/2027-08-10/
LOCATION:IFD Headquarters\, 6017 St. Andrews Road\, Columbia\, SC\, 29212\, United States
CATEGORIES:Board of Fire Control Meeting
ATTACH;FMTTYPE=image/jpeg:https://irmofire.org/wp-content/uploads/2021/11/HQ-scaled.jpg
END:VEVENT
BEGIN:VEVENT
DTSTART;TZID=UTC:20270914T190000
DTEND;TZID=UTC:20270914T210000
DTSTAMP:20260208T032408
CREATED:20220414T232417Z
LAST-MODIFIED:20220414T232417Z
UID:3756-1820948400-1820955600@irmofire.org
SUMMARY:Board of Fire Control Meeting
DESCRIPTION:The Irmo Board of Fire Control meets on the second Tuesday of every month at 7:00pm. The Irmo Fire District’s Headquarters station is located 6017 St. Andrews Road. The meetings are always open to the public. \nClick Here to See Meeting Agenda
URL:https://irmofire.org/event/board-of-fire-control-meeting/2027-09-14/
LOCATION:IFD Headquarters\, 6017 St. Andrews Road\, Columbia\, SC\, 29212\, United States
CATEGORIES:Board of Fire Control Meeting
ATTACH;FMTTYPE=image/jpeg:https://irmofire.org/wp-content/uploads/2021/11/HQ-scaled.jpg
END:VEVENT
BEGIN:VEVENT
DTSTART;TZID=UTC:20271012T190000
DTEND;TZID=UTC:20271012T210000
DTSTAMP:20260208T032408
CREATED:20220414T232417Z
LAST-MODIFIED:20220414T232417Z
UID:3761-1823367600-1823374800@irmofire.org
SUMMARY:Board of Fire Control Meeting
DESCRIPTION:The Irmo Board of Fire Control meets on the second Tuesday of every month at 7:00pm. The Irmo Fire District’s Headquarters station is located 6017 St. Andrews Road. The meetings are always open to the public. \nClick Here to See Meeting Agenda
URL:https://irmofire.org/event/board-of-fire-control-meeting/2027-10-12/
LOCATION:IFD Headquarters\, 6017 St. Andrews Road\, Columbia\, SC\, 29212\, United States
CATEGORIES:Board of Fire Control Meeting
ATTACH;FMTTYPE=image/jpeg:https://irmofire.org/wp-content/uploads/2021/11/HQ-scaled.jpg
END:VEVENT
END:VCALENDAR